BEGIN:VCALENDAR
VERSION:2.0
PRODID:-//Portage–Crooked Lake Improvement Association - ECPv6.15.20//NONSGML v1.0//EN
CALSCALE:GREGORIAN
METHOD:PUBLISH
X-ORIGINAL-URL:https://www.pclia.com
X-WR-CALDESC:Events for Portage–Crooked Lake Improvement Association
REFRESH-INTERVAL;VALUE=DURATION:PT1H
X-Robots-Tag:noindex
X-PUBLISHED-TTL:PT1H
BEGIN:VTIMEZONE
TZID:America/Chicago
BEGIN:DAYLIGHT
TZOFFSETFROM:-0600
TZOFFSETTO:-0500
TZNAME:CDT
DTSTART:20250309T080000
END:DAYLIGHT
BEGIN:STANDARD
TZOFFSETFROM:-0500
TZOFFSETTO:-0600
TZNAME:CST
DTSTART:20251102T070000
END:STANDARD
BEGIN:DAYLIGHT
TZOFFSETFROM:-0600
TZOFFSETTO:-0500
TZNAME:CDT
DTSTART:20260308T080000
END:DAYLIGHT
BEGIN:STANDARD
TZOFFSETFROM:-0500
TZOFFSETTO:-0600
TZNAME:CST
DTSTART:20261101T070000
END:STANDARD
BEGIN:DAYLIGHT
TZOFFSETFROM:-0600
TZOFFSETTO:-0500
TZNAME:CDT
DTSTART:20270314T080000
END:DAYLIGHT
BEGIN:STANDARD
TZOFFSETFROM:-0500
TZOFFSETTO:-0600
TZNAME:CST
DTSTART:20271107T070000
END:STANDARD
END:VTIMEZONE
BEGIN:VEVENT
DTSTART;TZID=America/Chicago:20260411T083000
DTEND;TZID=America/Chicago:20260411T100000
DTSTAMP:20260422T053352
CREATED:20260322T142822Z
LAST-MODIFIED:20260322T142824Z
UID:9561-1775896200-1775901600@www.pclia.com
SUMMARY:Board Meeting
DESCRIPTION:Bay Lake Town Hall
URL:https://www.pclia.com/event/board-meeting/
END:VEVENT
BEGIN:VEVENT
DTSTART;TZID=America/Chicago:20260502T083000
DTEND;TZID=America/Chicago:20260502T100000
DTSTAMP:20260422T053352
CREATED:20260322T142958Z
LAST-MODIFIED:20260322T143001Z
UID:9563-1777710600-1777716000@www.pclia.com
SUMMARY:Board Meeting
DESCRIPTION:Bay Lake Town Hall
URL:https://www.pclia.com/event/board-meeting-2/
END:VEVENT
BEGIN:VEVENT
DTSTART;TZID=America/Chicago:20260502T160000
DTEND;TZID=America/Chicago:20260502T180000
DTSTAMP:20260422T053352
CREATED:20250918T234457Z
LAST-MODIFIED:20260322T143405Z
UID:9467-1777737600-1777744800@www.pclia.com
SUMMARY:Welcome Back to the Lakes
DESCRIPTION:Deerwood Legion \n\n\n\nFree pizza\, cash bar.  Launching of PCLIA Lake Legacy Initiative @ socializing with friends old and new.
URL:https://www.pclia.com/event/welcome-back-to-the-lakes-2/
END:VEVENT
BEGIN:VEVENT
DTSTART;TZID=America/Chicago:20260613T120000
DTEND;TZID=America/Chicago:20260613T140000
DTSTAMP:20260422T053352
CREATED:20250918T234634Z
LAST-MODIFIED:20260322T143632Z
UID:9469-1781352000-1781359200@www.pclia.com
SUMMARY:Summer Picnic & Get Together
DESCRIPTION:Larson Residence 14265 Maghan Lane \n\n\n\nServing brats & hot dogs.  Extended family and summer visitors are welcome.  Please RSVP: andylarson1959@hotmail.com with number attending.
URL:https://www.pclia.com/event/summer-picnic-get-together-2/
END:VEVENT
BEGIN:VEVENT
DTSTART;TZID=America/Chicago:20260704T100000
DTEND;TZID=America/Chicago:20260704T123000
DTSTAMP:20260422T053352
CREATED:20250918T234738Z
LAST-MODIFIED:20260322T144255Z
UID:9471-1783159200-1783168200@www.pclia.com
SUMMARY:6th Annual Family Fun Event
DESCRIPTION:Larson Residence 14265 Maghan Lane \n\n\n\nTriathlon of Fun at 10:00: 25yd swim – 3 mile bike ride – 1 mile walk/run.   \n\n\n\nAdded attraction: Nolan and Gabe Jukish jet ski demo and water safety talk
URL:https://www.pclia.com/event/5th-annual-family-fun-event-2/
END:VEVENT
BEGIN:VEVENT
DTSTART;TZID=America/Chicago:20260801T083000
DTEND;TZID=America/Chicago:20260801T100000
DTSTAMP:20260422T053352
CREATED:20260322T143055Z
LAST-MODIFIED:20260322T143057Z
UID:9565-1785573000-1785578400@www.pclia.com
SUMMARY:Board Meeting
DESCRIPTION:
URL:https://www.pclia.com/event/board-meeting-3/
END:VEVENT
BEGIN:VEVENT
DTSTART;TZID=America/Chicago:20260919T160000
DTEND;TZID=America/Chicago:20260919T190000
DTSTAMP:20260422T053352
CREATED:20250918T234836Z
LAST-MODIFIED:20260312T121121Z
UID:9473-1789833600-1789844400@www.pclia.com
SUMMARY:Annual Fall Dinner Meeting
DESCRIPTION:Time and location to be announced
URL:https://www.pclia.com/event/annual-fall-dinner-meeting-2/
END:VEVENT
BEGIN:VEVENT
DTSTART;TZID=America/Chicago:20260926T083000
DTEND;TZID=America/Chicago:20260926T100000
DTSTAMP:20260422T053352
CREATED:20260322T143148Z
LAST-MODIFIED:20260322T143150Z
UID:9567-1790411400-1790416800@www.pclia.com
SUMMARY:Board Meeting
DESCRIPTION:
URL:https://www.pclia.com/event/board-meeting-4/
END:VEVENT
END:VCALENDAR